BEGIN:VCALENDAR
VERSION:2.0
PRODID:-//wp-events-plugin.com//7.2.3.1//EN
TZID:Europe/Paris
X-WR-TIMEZONE:Europe/Paris
BEGIN:VEVENT
UID:56@severine-nicollet.com
DTSTART;TZID=Europe/Paris;VALUE=DATE:20241108
DTEND;TZID=Europe/Paris;VALUE=DATE:20241110
DTSTAMP:20231124T091511Z
URL:https://www.severine-nicollet.com/agenda/formation-agreee-niveau-2-11-
 2024/
SUMMARY:Formation agréée niveau 2
DESCRIPTION:Présentation du stage : Formation FDB agréée niveau 2
ATTACH;FMTTYPE=image/jpeg:https://www.severine-nicollet.com/wp-content/upl
 oads/2023/08/devanture-Ciel-Zen-Thonon.jpg
CATEGORIES:Formation agréée FDB
LOCATION:Thonon-les-Bains (74)\, Ciel &amp\; Zen - 20\, rue des Granges\, T
 honon-les-Bains\, 74200\, France
X-APPLE-STRUCTURED-LOCATION;VALUE=URI;X-ADDRESS=Ciel & Zen - 20\, rue des G
 ranges\, Thonon-les-Bains\, 74200\, France;X-APPLE-RADIUS=100;X-TITLE=Thon
 on-les-Bains (74):geo:0,0
END:VEVENT
BEGIN:VTIMEZONE
TZID:Europe/Paris
X-LIC-LOCATION:Europe/Paris
BEGIN:STANDARD
DTSTART:20241027T020000
TZOFFSETFROM:+0200
TZOFFSETTO:+0100
TZNAME:CET
END:STANDARD
END:VTIMEZONE
END:VCALENDAR